BEGIN:VCALENDAR
VERSION:2.0
PRODID:-//ChamberMaster//Event Calendar 2.0//EN
METHOD:PUBLISH
X-PUBLISHED-TTL:P3D
REFRESH-INTERVAL:P3D
CALSCALE:GREGORIAN
BEGIN:VEVENT
DTSTART:20190220T160000Z
DTEND:20190220T190000Z
X-MICROSOFT-CDO-ALLDAYEVENT:FALSE
SUMMARY:Pitch Perfect: Master Your 2-Minute Funding Pitch
DESCRIPTION:Do you have a great business idea\, but the prospect of presenting your business concept to a banker or potential client scares you?\n\n \n\nThe Women's Business Center of Utah is hosting our annual Pitch Perfect: Master Your 2-Minute Funding Pitch event! \n\n \n\nWe are giving business owners the opportunity to practice pitching their business plan and receive valuable feedback without real money on the line. This is a great opportunity to gain visibility in front of business pros\, lenders and major bank representatives who will coach you through the essentials of a perfect pitch. This can be your chance to hear directly from professionals about what they are looking for.\n\n \n\nThis event will be a fun and educational way to network\, gain valuable tips and receive feedback on how to best secure financing.\n\n \n\nFree food and drinks will be provided!\n\n \n\nTake your business from fun money to startup funding!
X-ALT-DESC;FMTTYPE=text/html:<div><span style="color:rgb(0\, 0\, 0)\; font-family:palatino linotype\,book antiqua\,palatino\,serif">Do you have a great business idea\, but the prospect of presenting your business concept to a banker or potential client scares you?</span></div>\n\n<div>&nbsp\;</div>\n\n<div><span style="color:rgb(0\, 0\, 0)\; font-family:palatino linotype\,book antiqua\,palatino\,serif">The Women&rsquo\;s Business Center of Utah is hosting our annual Pitch Perfect: Master Your 2-Minute Funding Pitch event!&nbsp\;</span></div>\n\n<div>&nbsp\;</div>\n\n<div><span style="font-family:palatino linotype\,book antiqua\,palatino\,serif">We are giving business owners the opportunity to practice pitching their business plan and receive valuable feedback without real money on the line. This is a great opportunity to gain visibility in front of business pros\, lenders and major bank representatives who will coach you through the essentials of a perfect pitch. This can be your chance to hear directly from professionals about what they are looking for.</span></div>\n\n<div>&nbsp\;</div>\n\n<div><span style="color:rgb(0\, 0\, 0)\; font-family:palatino linotype\,book antiqua\,palatino\,serif">This event will be a fun and educational way to network\, gain valuable tips and receive feedback on how to best secure financing.</span></div>\n\n<div>&nbsp\;</div>\n\n<div><strong>Free food and drinks will be provided!</strong></div>\n\n<div>&nbsp\;</div>\n\n<div><span style="color:rgb(0\, 0\, 0)\; font-family:palatino linotype\,book antiqua\,palatino\,serif">Take your business from fun money to startup funding!</span></div>\n
LOCATION:Women's Business Center of Utah 175 East 400 South\, Suite 600 Salt Lake City\, Utah 84111 United States
UID:e.3258.265
SEQUENCE:3
DTSTAMP:20260425T105022Z
URL:https://business.uaacc.org/events/details/pitch-perfect-master-your-2-minute-funding-pitch-265
END:VEVENT

END:VCALENDAR
