BEGIN:VCALENDAR
VERSION:2.0
PRODID:-//ChamberMaster//Event Calendar 2.0//EN
METHOD:PUBLISH
X-PUBLISHED-TTL:P3D
REFRESH-INTERVAL:P3D
CALSCALE:GREGORIAN
BEGIN:VEVENT
DTSTART:20200502T000000Z
DTEND:20200502T030000Z
X-MICROSOFT-CDO-ALLDAYEVENT:FALSE
SUMMARY:National Small Business Week Kick-Off
DESCRIPTION:For more than 50 years\, the President of the United States has issued a proclamation announcing National Small Business Week\, which recognizes the critical contributions of America's entrepreneurs and small business owners.\n\n \n\n\n\nMore than half of Americans either own or work for a small business\, and they create about two out of every three new jobs in the U.S. each year.\n\n \n\n\n\nAs part of National Small Business Week\, the U.S. Small Business Administration takes the opportunity to highlight the impact of outstanding entrepreneurs\, small business owners\, and others from all 50 states and U.S. territories. Every day\, they're working to grow small businesses\, create 21st century jobs\, drive innovation\, and increase America's global competitiveness.\n\n \n\n\n\nThe Utah Black Chamber and Local First Utah are collaborating to kick off a celebration of Utah's small businesses! Come network\, meet local businesses\, and learn about the events happening during National Small Business Week\, May 3-9\, 2020!\n\n\n\nDiscounted tickets for members of Local First and Utah Black Chamber. Contact Local First for the member promo code and register as a non-member to enter the promo code. \n\n\n\n \n\n\n\nVenue to be announced soon!
X-ALT-DESC;FMTTYPE=text/html:<div data-block="true" data-editor="6omvu" data-offset-key="d4pik-0-0" style="font-family: system-ui\, -apple-system\, BlinkMacSystemFont\, &quot\;.SFNSText-Regular&quot\;\, sans-serif\; caret-color: rgb(28\, 30\, 33)\; color: rgb(28\, 30\, 33)\; font-size: 12px\; white-space: pre-wrap\;">\n<div class="_1mf _1mj" data-offset-key="d4pik-0-0" style="position: relative\; direction: ltr\; font-family: inherit\;"><span data-offset-key="d4pik-0-0" style="font-family: inherit\;">For more than 50 years\, the President of the United States has issued a proclamation announcing National Small Business Week\, which recognizes the critical contributions of America&rsquo\;s entrepreneurs and small business owners.</span><br />\n&nbsp\;</div>\n</div>\n\n<div data-block="true" data-editor="6omvu" data-offset-key="cqlnv-0-0" style="font-family: system-ui\, -apple-system\, BlinkMacSystemFont\, &quot\;.SFNSText-Regular&quot\;\, sans-serif\; caret-color: rgb(28\, 30\, 33)\; color: rgb(28\, 30\, 33)\; font-size: 12px\; white-space: pre-wrap\;">\n<div class="_1mf _1mj" data-offset-key="cqlnv-0-0" style="position: relative\; direction: ltr\; font-family: inherit\;"><span data-offset-key="cqlnv-0-0" style="font-family: inherit\;">More than half of Americans either own or work for a small business\, and they create about two out of every three new jobs in the U.S. each year.</span><br />\n&nbsp\;</div>\n</div>\n\n<div data-block="true" data-editor="6omvu" data-offset-key="3iehb-0-0" style="font-family: system-ui\, -apple-system\, BlinkMacSystemFont\, &quot\;.SFNSText-Regular&quot\;\, sans-serif\; caret-color: rgb(28\, 30\, 33)\; color: rgb(28\, 30\, 33)\; font-size: 12px\; white-space: pre-wrap\;">\n<div class="_1mf _1mj" data-offset-key="3iehb-0-0" style="position: relative\; direction: ltr\; font-family: inherit\;"><span data-offset-key="3iehb-0-0" style="font-family: inherit\;">As part of National Small Business Week\, the U.S. Small Business Administration takes the opportunity to highlight the impact of outstanding entrepreneurs\, small business owners\, and others from all 50 states and U.S. territories. Every day\, they&rsquo\;re working to grow small businesses\, create 21st century jobs\, drive innovation\, and increase America&rsquo\;s global competitiveness.</span><br />\n&nbsp\;</div>\n</div>\n\n<div data-block="true" data-editor="6omvu" data-offset-key="31aas-0-0" style="font-family: system-ui\, -apple-system\, BlinkMacSystemFont\, &quot\;.SFNSText-Regular&quot\;\, sans-serif\; caret-color: rgb(28\, 30\, 33)\; color: rgb(28\, 30\, 33)\; font-size: 12px\; white-space: pre-wrap\;">\n<div class="_1mf _1mj" data-offset-key="31aas-0-0" style="position: relative\; direction: ltr\; font-family: inherit\;"><span data-offset-key="31aas-0-0" style="font-family: inherit\;">The Utah Black Chamber and Local First Utah are collaborating to kick off a celebration of Utah&#39\;s small businesses! Come network\, meet local businesses\, and learn about the events happening during National Small Business Week\, May 3-9\, 2020!</span><br />\n<br />\n<span style="caret-color: rgb(29\, 33\, 41)\; color: rgb(29\, 33\, 41)\; font-family: system-ui\, -apple-system\, BlinkMacSystemFont\, &quot\;.SFNSText-Regular&quot\;\, sans-serif\; font-size: 14px\; white-space: pre-wrap\;">Discounted tickets for members of Local First and Utah Black Chamber. Contact Local First for the member promo code and register as a non-member to enter the promo code. </span></div>\n</div>\n\n<div data-block="true" data-editor="6omvu" data-offset-key="3l461-0-0" style="font-family: system-ui\, -apple-system\, BlinkMacSystemFont\, &quot\;.SFNSText-Regular&quot\;\, sans-serif\; caret-color: rgb(28\, 30\, 33)\; color: rgb(28\, 30\, 33)\; font-size: 12px\; white-space: pre-wrap\;">\n<div class="_1mf _1mj" data-offset-key="3l461-0-0" style="position: relative\; direction: ltr\; font-family: inherit\;">&nbsp\;</div>\n</div>\n\n<div data-block="true" data-editor="6omvu" data-offset-key="4j5ik-0-0" style="font-family: system-ui\, -apple-system\, BlinkMacSystemFont\, &quot\;.SFNSText-Regular&quot\;\, sans-serif\; caret-color: rgb(28\, 30\, 33)\; color: rgb(28\, 30\, 33)\; font-size: 12px\; white-space: pre-wrap\;">\n<div class="_1mf _1mj" data-offset-key="4j5ik-0-0" style="position: relative\; direction: ltr\; font-family: inherit\;"><span data-offset-key="4j5ik-0-0" style="font-family: inherit\;">Venue to be announced soon!</span></div>\n</div>\n
LOCATION:TBD
UID:e.3258.425
SEQUENCE:3
DTSTAMP:20260424T124829Z
URL:https://business.uaacc.org/events/details/national-small-business-week-kick-off-425
END:VEVENT

END:VCALENDAR
